BEGIN:VCALENDAR
VERSION:2.0
PRODID:-//THE GYM - ECPv6.15.12.2//NONSGML v1.0//EN
CALSCALE:GREGORIAN
METHOD:PUBLISH
X-ORIGINAL-URL:https://www.thegymza.co.za
X-WR-CALDESC:Events for THE GYM
REFRESH-INTERVAL;VALUE=DURATION:PT1H
X-Robots-Tag:noindex
X-PUBLISHED-TTL:PT1H
BEGIN:VTIMEZONE
TZID:Africa/Johannesburg
BEGIN:STANDARD
TZOFFSETFROM:+0200
TZOFFSETTO:+0200
TZNAME:SAST
DTSTART:20240101T000000
END:STANDARD
END:VTIMEZONE
BEGIN:VEVENT
DTSTART;VALUE=DATE:20250614
DTEND;VALUE=DATE:20250615
DTSTAMP:20260421T112608
CREATED:20250505T125923Z
LAST-MODIFIED:20250507T133912Z
UID:1153-1749859200-1749945599@www.thegymza.co.za
SUMMARY:WOE WOE THROWDOWN 2025
DESCRIPTION:🔥 WOE WOE THROWDOWN – HYROX EDITION 🔥The Gym Worcester proudly presents the ultimate test of strength\, speed\, and stamina — WOE WOE THROWDOWN 2025 is back\, and this year\, we’re turning up the heat with a HYROX twist! \nGet ready for a high-energy showdown inspired by the global fitness racing phenomenon. Whether you’re a seasoned athlete or a functional fitness enthusiast\, this is your chance to compete\, push boundaries\, and celebrate fitness in true Boland style. \nExpect:\n✅ HYROX-style challenges✅ Team based Challenges✅ High-intensity circuits✅ DJ beats\, adrenaline\, and local pride✅ Epic prizes and sponsor giveaways✅ Vibes for the whole family \n📍 Set in the heart of Worcester – where grit meets community.🗓️ Date: 14 June 2025 \nTrain hard. Show up. Lekker in die WOE WOE! \n\n\n                    \n                        \n                        \n                    \n\n        \n                        \n                                                                            ENTER NOW
URL:https://www.thegymza.co.za/event/woe-woe-throwdown-2025/
LOCATION:The Gym Worcester\, 1 Distillery Road\, Worcester\, Western Cape\, Western Cape\, 6850\, South Africa
ATTACH;FMTTYPE=image/png:https://www.thegymza.co.za/wp-content/uploads/2025/05/14-JUNE.png
END:VEVENT
END:VCALENDAR